
BEGIN:VCALENDAR
VERSION:2.0
PRODID:-//clever fit Academy - ECPv6.15.14//NONSGML v1.0//EN
CALSCALE:GREGORIAN
METHOD:PUBLISH
X-WR-CALNAME:clever fit Academy
X-ORIGINAL-URL:https://academy.clever-fit.com
X-WR-CALDESC:Veranstaltungen für clever fit Academy
REFRESH-INTERVAL;VALUE=DURATION:PT1H
X-Robots-Tag:noindex
X-PUBLISHED-TTL:PT1H
BEGIN:VTIMEZONE
TZID:Europe/Berlin
BEGIN:DAYLIGHT
TZOFFSETFROM:+0100
TZOFFSETTO:+0200
TZNAME:CEST
DTSTART:20250330T010000
END:DAYLIGHT
BEGIN:STANDARD
TZOFFSETFROM:+0200
TZOFFSETTO:+0100
TZNAME:CET
DTSTART:20251026T010000
END:STANDARD
BEGIN:DAYLIGHT
TZOFFSETFROM:+0100
TZOFFSETTO:+0200
TZNAME:CEST
DTSTART:20260329T010000
END:DAYLIGHT
BEGIN:STANDARD
TZOFFSETFROM:+0200
TZOFFSETTO:+0100
TZNAME:CET
DTSTART:20261025T010000
END:STANDARD
BEGIN:DAYLIGHT
TZOFFSETFROM:+0100
TZOFFSETTO:+0200
TZNAME:CEST
DTSTART:20270328T010000
END:DAYLIGHT
BEGIN:STANDARD
TZOFFSETFROM:+0200
TZOFFSETTO:+0100
TZNAME:CET
DTSTART:20271031T010000
END:STANDARD
END:VTIMEZONE
BEGIN:VEVENT
DTSTART;VALUE=DATE:20260425
DTEND;VALUE=DATE:20260426
DTSTAMP:20260425T023820
CREATED:20260119T125850Z
LAST-MODIFIED:20260310T102747Z
UID:10000275-1777075200-1777161599@academy.clever-fit.com
SUMMARY:LIZENZIERTER FUNCTIONAL TRAINING COACH - Hamburg Rothenburgsort-
DESCRIPTION:
URL:https://academy.clever-fit.com/event/lizenzierter-functional-training-coach-kaltenkirchen/
LOCATION:clever fit Hamburg-Rothenburgsort\, Billhorner Deich 94\, Hamburg-Rothenburgsort\, Hamburg\, 20539\, Germany
CATEGORIES:LIZENZIERTER FUNCTIONAL TRAINING COACH
END:VEVENT
BEGIN:VEVENT
DTSTART;VALUE=DATE:20260606
DTEND;VALUE=DATE:20260607
DTSTAMP:20260425T023820
CREATED:20251104T125519Z
LAST-MODIFIED:20260310T105342Z
UID:10000251-1780704000-1780790399@academy.clever-fit.com
SUMMARY:LIZENZIERTE/R FITNESSTRAINER/-IN B-LIZENZ - Hamburg Rothenburgsort
DESCRIPTION:
URL:https://academy.clever-fit.com/event/lizenzierte-r-fitnesstrainer-in-b-lizenz-kaltenkirchen-3/
LOCATION:clever fit Hamburg-Rothenburgsort\, Billhorner Deich 94\, Hamburg-Rothenburgsort\, Hamburg\, 20539\, Germany
CATEGORIES:LIZENZIERTE/R FITNESSTRAINER/-IN B-LIZENZ
END:VEVENT
BEGIN:VEVENT
DTSTART;VALUE=DATE:20260607
DTEND;VALUE=DATE:20260608
DTSTAMP:20260425T023820
CREATED:20260119T111053Z
LAST-MODIFIED:20260310T103341Z
UID:10000259-1780790400-1780876799@academy.clever-fit.com
SUMMARY:LIZENZIERTE/R FITNESSTRAINER/-IN A-LIZENZ - Hamburg Rothenburgsort
DESCRIPTION:
URL:https://academy.clever-fit.com/event/lizenzierte-r-fitnesstrainer-in-a-lizenz-kaltenkirchen-3/
LOCATION:clever fit Hamburg-Rothenburgsort\, Billhorner Deich 94\, Hamburg-Rothenburgsort\, Hamburg\, 20539\, Germany
CATEGORIES:LIZENZIERTE/R FITNESSTRAINER/-IN A-LIZENZ
END:VEVENT
BEGIN:VEVENT
DTSTART;VALUE=DATE:20260829
DTEND;VALUE=DATE:20260830
DTSTAMP:20260425T023820
CREATED:20260119T124351Z
LAST-MODIFIED:20260310T103019Z
UID:10000271-1787961600-1788047999@academy.clever-fit.com
SUMMARY:LIZENZIERTER HEALTH COACH - Hamburg Rothenburgsort
DESCRIPTION:
URL:https://academy.clever-fit.com/event/lizenzierter-health-coach-kaltenkirchen/
LOCATION:clever fit Hamburg-Rothenburgsort\, Billhorner Deich 94\, Hamburg-Rothenburgsort\, Hamburg\, 20539\, Germany
CATEGORIES:LIZENZIERTER HEALTH COACH
END:VEVENT
BEGIN:VEVENT
DTSTART;VALUE=DATE:20260919
DTEND;VALUE=DATE:20260920
DTSTAMP:20260425T023820
CREATED:20251104T130009Z
LAST-MODIFIED:20260310T105212Z
UID:10000252-1789776000-1789862399@academy.clever-fit.com
SUMMARY:LIZENZIERTE/R FITNESSTRAINER/-IN B-LIZENZ - Hamburg Rothenburgsort
DESCRIPTION:
URL:https://academy.clever-fit.com/event/lizenzierte-r-fitnesstrainer-in-b-lizenz-kaltenkirchen-4/
LOCATION:clever fit Hamburg-Rothenburgsort\, Billhorner Deich 94\, Hamburg-Rothenburgsort\, Hamburg\, 20539\, Germany
CATEGORIES:LIZENZIERTE/R FITNESSTRAINER/-IN B-LIZENZ
END:VEVENT
BEGIN:VEVENT
DTSTART;VALUE=DATE:20261010
DTEND;VALUE=DATE:20261011
DTSTAMP:20260425T023820
CREATED:20260119T134348Z
LAST-MODIFIED:20260310T102559Z
UID:10000281-1791590400-1791676799@academy.clever-fit.com
SUMMARY:LIZENZIERTER FUNCTIONAL TRAINING COACH - Hamburg Rothenburgsort -
DESCRIPTION:
URL:https://academy.clever-fit.com/event/lizenzierter-functional-training-coach-kaltenkirchen-2/
LOCATION:clever fit Hamburg-Rothenburgsort\, Billhorner Deich 94\, Hamburg-Rothenburgsort\, Hamburg\, 20539\, Germany
CATEGORIES:LIZENZIERTER FUNCTIONAL TRAINING COACH
END:VEVENT
BEGIN:VEVENT
DTSTART;VALUE=DATE:20261128
DTEND;VALUE=DATE:20261129
DTSTAMP:20260425T023820
CREATED:20251104T130154Z
LAST-MODIFIED:20260310T103508Z
UID:10000253-1795824000-1795910399@academy.clever-fit.com
SUMMARY:LIZENZIERTE/R FITNESSTRAINER/-IN B-LIZENZ - Hamburg Rothenburgsort
DESCRIPTION:
URL:https://academy.clever-fit.com/event/lizenzierte-r-fitnesstrainer-in-b-lizenz-kaltenkirchen-5/
LOCATION:clever fit Hamburg-Rothenburgsort\, Billhorner Deich 94\, Hamburg-Rothenburgsort\, Hamburg\, 20539\, Germany
CATEGORIES:LIZENZIERTE/R FITNESSTRAINER/-IN B-LIZENZ
END:VEVENT
BEGIN:VEVENT
DTSTART;VALUE=DATE:20261129
DTEND;VALUE=DATE:20261130
DTSTAMP:20260425T023820
CREATED:20260119T113732Z
LAST-MODIFIED:20260310T103159Z
UID:10000264-1795910400-1795996799@academy.clever-fit.com
SUMMARY:LIZENZIERTE/R FITNESSTRAINER/-IN A-LIZENZ - Hamburg Rothenburgsort
DESCRIPTION:
URL:https://academy.clever-fit.com/event/lizenzierte-r-fitnesstrainer-in-a-lizenz-kaltenkirchen-4/
LOCATION:clever fit Hamburg-Rothenburgsort\, Billhorner Deich 94\, Hamburg-Rothenburgsort\, Hamburg\, 20539\, Germany
CATEGORIES:LIZENZIERTE/R FITNESSTRAINER/-IN A-LIZENZ
END:VEVENT
END:VCALENDAR