
BEGIN:VCALENDAR
VERSION:2.0
PRODID:-//clever fit Academy - ECPv6.15.14//NONSGML v1.0//EN
CALSCALE:GREGORIAN
METHOD:PUBLISH
X-ORIGINAL-URL:https://academy.clever-fit.com
X-WR-CALDESC:Veranstaltungen für clever fit Academy
REFRESH-INTERVAL;VALUE=DURATION:PT1H
X-Robots-Tag:noindex
X-PUBLISHED-TTL:PT1H
BEGIN:VTIMEZONE
TZID:Europe/Berlin
BEGIN:DAYLIGHT
TZOFFSETFROM:+0100
TZOFFSETTO:+0200
TZNAME:CEST
DTSTART:20250330T010000
END:DAYLIGHT
BEGIN:STANDARD
TZOFFSETFROM:+0200
TZOFFSETTO:+0100
TZNAME:CET
DTSTART:20251026T010000
END:STANDARD
BEGIN:DAYLIGHT
TZOFFSETFROM:+0100
TZOFFSETTO:+0200
TZNAME:CEST
DTSTART:20260329T010000
END:DAYLIGHT
BEGIN:STANDARD
TZOFFSETFROM:+0200
TZOFFSETTO:+0100
TZNAME:CET
DTSTART:20261025T010000
END:STANDARD
BEGIN:DAYLIGHT
TZOFFSETFROM:+0100
TZOFFSETTO:+0200
TZNAME:CEST
DTSTART:20270328T010000
END:DAYLIGHT
BEGIN:STANDARD
TZOFFSETFROM:+0200
TZOFFSETTO:+0100
TZNAME:CET
DTSTART:20271031T010000
END:STANDARD
END:VTIMEZONE
BEGIN:VEVENT
DTSTART;VALUE=DATE:20260425
DTEND;VALUE=DATE:20260426
DTSTAMP:20260425T003335
CREATED:20260119T130123Z
LAST-MODIFIED:20260120T111627Z
UID:10000276-1777075200-1777161599@academy.clever-fit.com
SUMMARY:LIZENZIERTER FUNCTIONAL TRAINING COACH - Landsberg -
DESCRIPTION:
URL:https://academy.clever-fit.com/event/lizenzierter-functional-training-coach-landsberg-4/
LOCATION:clever fit Landsberg\, Augsburger Straße 52\, Landsberg am Lech\, 86899\, Germany
CATEGORIES:LIZENZIERTER FUNCTIONAL TRAINING COACH
END:VEVENT
BEGIN:VEVENT
DTSTART;VALUE=DATE:20260613
DTEND;VALUE=DATE:20260614
DTSTAMP:20260425T003335
CREATED:20251104T130715Z
LAST-MODIFIED:20260119T102019Z
UID:10000244-1781308800-1781395199@academy.clever-fit.com
SUMMARY:LIZENZIERTE/R FITNESSTRAINER/-IN B-LIZENZ - Landsberg am Lech
DESCRIPTION:
URL:https://academy.clever-fit.com/event/lizenzierte-r-fitnesstrainer-in-b-lizenz-landsberg-am-lech-2/
LOCATION:clever fit Landsberg\, Augsburger Straße 52\, Landsberg am Lech\, 86899\, Germany
CATEGORIES:LIZENZIERTE/R FITNESSTRAINER/-IN B-LIZENZ
END:VEVENT
BEGIN:VEVENT
DTSTART;VALUE=DATE:20260614
DTEND;VALUE=DATE:20260615
DTSTAMP:20260425T003335
CREATED:20260119T110230Z
LAST-MODIFIED:20260119T145607Z
UID:10000256-1781395200-1781481599@academy.clever-fit.com
SUMMARY:LIZENZIERTE/R FITNESSTRAINER/-IN A-LIZENZ - Landsberg
DESCRIPTION:
URL:https://academy.clever-fit.com/event/lizenzierte-r-fitnesstrainer-in-a-lizenz-landsberg-2/
LOCATION:clever fit Landsberg\, Augsburger Straße 52\, Landsberg am Lech\, 86899\, Germany
CATEGORIES:LIZENZIERTE/R FITNESSTRAINER/-IN A-LIZENZ
END:VEVENT
BEGIN:VEVENT
DTSTART;VALUE=DATE:20260912
DTEND;VALUE=DATE:20260913
DTSTAMP:20260425T003335
CREATED:20260119T134431Z
LAST-MODIFIED:20260119T134431Z
UID:10000282-1789171200-1789257599@academy.clever-fit.com
SUMMARY:LIZENZIERTER HEALTH COACH - Landsberg
DESCRIPTION:
URL:https://academy.clever-fit.com/event/lizenzierter-health-coach-landsberg-5/
LOCATION:clever fit Landsberg\, Augsburger Straße 52\, Landsberg am Lech\, 86899\, Germany
CATEGORIES:LIZENZIERTER HEALTH COACH
END:VEVENT
BEGIN:VEVENT
DTSTART;VALUE=DATE:20260919
DTEND;VALUE=DATE:20260920
DTSTAMP:20260425T003335
CREATED:20260119T103917Z
LAST-MODIFIED:20260119T104108Z
UID:10000254-1789776000-1789862399@academy.clever-fit.com
SUMMARY:LIZENZIERTE/R FITNESSTRAINER/-IN B-LIZENZ - Landsberg am Lech
DESCRIPTION:
URL:https://academy.clever-fit.com/event/lizenzierte-r-fitnesstrainer-in-b-lizenz-landsberg-am-lech-4/
LOCATION:clever fit Landsberg\, Augsburger Straße 52\, Landsberg am Lech\, 86899\, Germany
CATEGORIES:LIZENZIERTE/R FITNESSTRAINER/-IN B-LIZENZ
END:VEVENT
BEGIN:VEVENT
DTSTART;VALUE=DATE:20261010
DTEND;VALUE=DATE:20261011
DTSTAMP:20260425T003335
CREATED:20260119T134844Z
LAST-MODIFIED:20260120T111723Z
UID:10000286-1791590400-1791676799@academy.clever-fit.com
SUMMARY:LIZENZIERTER FUNCTIONAL TRAINING COACH - Landsberg -
DESCRIPTION:
URL:https://academy.clever-fit.com/event/lizenzierter-functional-training-coach-landsberg-5/
LOCATION:clever fit Landsberg\, Augsburger Straße 52\, Landsberg am Lech\, 86899\, Germany
CATEGORIES:LIZENZIERTER FUNCTIONAL TRAINING COACH
END:VEVENT
BEGIN:VEVENT
DTSTART;VALUE=DATE:20261017
DTEND;VALUE=DATE:20261018
DTSTAMP:20260425T003335
CREATED:20260119T134621Z
LAST-MODIFIED:20260119T134915Z
UID:10000284-1792195200-1792281599@academy.clever-fit.com
SUMMARY:LIZENZIERTER HEALTH COACH - Landsberg
DESCRIPTION:
URL:https://academy.clever-fit.com/event/lizenzierter-health-coach-landsberg-6/
LOCATION:clever fit Landsberg\, Augsburger Straße 52\, Landsberg am Lech\, 86899\, Germany
CATEGORIES:LIZENZIERTER HEALTH COACH
END:VEVENT
BEGIN:VEVENT
DTSTART;VALUE=DATE:20261128
DTEND;VALUE=DATE:20261129
DTSTAMP:20260425T003335
CREATED:20251104T130825Z
LAST-MODIFIED:20260119T102112Z
UID:10000245-1795824000-1795910399@academy.clever-fit.com
SUMMARY:LIZENZIERTE/R FITNESSTRAINER/-IN B-LIZENZ - Landsberg am Lech
DESCRIPTION:
URL:https://academy.clever-fit.com/event/lizenzierte-r-fitnesstrainer-in-b-lizenz-landsberg-am-lech-3/
LOCATION:clever fit Landsberg\, Augsburger Straße 52\, Landsberg am Lech\, 86899\, Germany
CATEGORIES:LIZENZIERTE/R FITNESSTRAINER/-IN B-LIZENZ
END:VEVENT
BEGIN:VEVENT
DTSTART;VALUE=DATE:20261129
DTEND;VALUE=DATE:20261130
DTSTAMP:20260425T003335
CREATED:20260119T113225Z
LAST-MODIFIED:20260119T145518Z
UID:10000261-1795910400-1795996799@academy.clever-fit.com
SUMMARY:LIZENZIERTE/R FITNESSTRAINER/-IN A-LIZENZ - Landsberg
DESCRIPTION:
URL:https://academy.clever-fit.com/event/lizenzierte-r-fitnesstrainer-in-a-lizenz-landsberg-3/
LOCATION:clever fit Landsberg\, Augsburger Straße 52\, Landsberg am Lech\, 86899\, Germany
CATEGORIES:LIZENZIERTE/R FITNESSTRAINER/-IN A-LIZENZ
END:VEVENT
END:VCALENDAR