
BEGIN:VCALENDAR
VERSION:2.0
PRODID:-//clever fit Academy - ECPv6.15.14//NONSGML v1.0//EN
CALSCALE:GREGORIAN
METHOD:PUBLISH
X-WR-CALNAME:clever fit Academy
X-ORIGINAL-URL:https://academy.clever-fit.com
X-WR-CALDESC:Veranstaltungen für clever fit Academy
REFRESH-INTERVAL;VALUE=DURATION:PT1H
X-Robots-Tag:noindex
X-PUBLISHED-TTL:PT1H
BEGIN:VTIMEZONE
TZID:Europe/Berlin
BEGIN:DAYLIGHT
TZOFFSETFROM:+0100
TZOFFSETTO:+0200
TZNAME:CEST
DTSTART:20250330T010000
END:DAYLIGHT
BEGIN:STANDARD
TZOFFSETFROM:+0200
TZOFFSETTO:+0100
TZNAME:CET
DTSTART:20251026T010000
END:STANDARD
BEGIN:DAYLIGHT
TZOFFSETFROM:+0100
TZOFFSETTO:+0200
TZNAME:CEST
DTSTART:20260329T010000
END:DAYLIGHT
BEGIN:STANDARD
TZOFFSETFROM:+0200
TZOFFSETTO:+0100
TZNAME:CET
DTSTART:20261025T010000
END:STANDARD
BEGIN:DAYLIGHT
TZOFFSETFROM:+0100
TZOFFSETTO:+0200
TZNAME:CEST
DTSTART:20270328T010000
END:DAYLIGHT
BEGIN:STANDARD
TZOFFSETFROM:+0200
TZOFFSETTO:+0100
TZNAME:CET
DTSTART:20271031T010000
END:STANDARD
END:VTIMEZONE
BEGIN:VEVENT
DTSTART;VALUE=DATE:20260618
DTEND;VALUE=DATE:20260619
DTSTAMP:20260425T003203
CREATED:20260119T144821Z
LAST-MODIFIED:20260119T144821Z
UID:10000313-1781740800-1781827199@academy.clever-fit.com
SUMMARY:LIZENZIERTE/R FITNESSTRAINER/-IN A-LIZENZ - Volketswil
DESCRIPTION:
URL:https://academy.clever-fit.com/event/lizenzierte-r-fitnesstrainer-in-a-lizenz-volketswil/
LOCATION:clever fit Volketswil\, Industriestraße 15\, Volketswil\, 8604
CATEGORIES:LIZENZIERTE/R FITNESSTRAINER/-IN A-LIZENZ
END:VEVENT
BEGIN:VEVENT
DTSTART;VALUE=DATE:20260619
DTEND;VALUE=DATE:20260620
DTSTAMP:20260425T003203
CREATED:20260119T143439Z
LAST-MODIFIED:20260119T143439Z
UID:10000308-1781827200-1781913599@academy.clever-fit.com
SUMMARY:LIZENZIERTE/R FITNESSTRAINER/-IN B-LIZENZ - Volketswil
DESCRIPTION:
URL:https://academy.clever-fit.com/event/lizenzierte-r-fitnesstrainer-in-b-lizenz-volketswil-2/
LOCATION:clever fit Volketswil\, Industriestraße 15\, Volketswil\, 8604
CATEGORIES:LIZENZIERTE/R FITNESSTRAINER/-IN B-LIZENZ
END:VEVENT
BEGIN:VEVENT
DTSTART;VALUE=DATE:20260925
DTEND;VALUE=DATE:20260926
DTSTAMP:20260425T003203
CREATED:20260119T143915Z
LAST-MODIFIED:20260119T143915Z
UID:10000309-1790294400-1790380799@academy.clever-fit.com
SUMMARY:LIZENZIERTE/R FITNESSTRAINER/-IN B-LIZENZ - Volketswil
DESCRIPTION:
URL:https://academy.clever-fit.com/event/lizenzierte-r-fitnesstrainer-in-b-lizenz-volketswil-3/
LOCATION:clever fit Volketswil\, Industriestraße 15\, Volketswil\, 8604
CATEGORIES:LIZENZIERTE/R FITNESSTRAINER/-IN B-LIZENZ
END:VEVENT
BEGIN:VEVENT
DTSTART;VALUE=DATE:20261016
DTEND;VALUE=DATE:20261017
DTSTAMP:20260425T003203
CREATED:20260119T140623Z
LAST-MODIFIED:20260119T140733Z
UID:10000299-1792108800-1792195199@academy.clever-fit.com
SUMMARY:LIZENZIERTER HEALTH COACH - Volketswil
DESCRIPTION:
URL:https://academy.clever-fit.com/event/lizenzierter-health-coach-volketswil-2/
LOCATION:clever fit Volketswil\, Industriestraße 15\, Volketswil\, 8604
CATEGORIES:LIZENZIERTER HEALTH COACH
END:VEVENT
BEGIN:VEVENT
DTSTART;VALUE=DATE:20261106
DTEND;VALUE=DATE:20261107
DTSTAMP:20260425T003203
CREATED:20260119T141311Z
LAST-MODIFIED:20260120T112500Z
UID:10000304-1793923200-1794009599@academy.clever-fit.com
SUMMARY:LIZENZIERTER FUNCTIONAL TRAINING COACH - Volketswil -
DESCRIPTION:
URL:https://academy.clever-fit.com/event/lizenzierter-functional-training-coach-volketswil-2/
LOCATION:clever fit Volketswil\, Industriestraße 15\, Volketswil\, 8604
CATEGORIES:LIZENZIERTER FUNCTIONAL TRAINING COACH
END:VEVENT
BEGIN:VEVENT
DTSTART;VALUE=DATE:20261203
DTEND;VALUE=DATE:20261204
DTSTAMP:20260425T003203
CREATED:20260119T145428Z
LAST-MODIFIED:20260119T145428Z
UID:10000315-1796256000-1796342399@academy.clever-fit.com
SUMMARY:LIZENZIERTE/R FITNESSTRAINER/-IN A-LIZENZ - Volketswil
DESCRIPTION:
URL:https://academy.clever-fit.com/event/lizenzierte-r-fitnesstrainer-in-a-lizenz-volketswil-2/
LOCATION:clever fit Volketswil\, Industriestraße 15\, Volketswil\, 8604
CATEGORIES:LIZENZIERTE/R FITNESSTRAINER/-IN A-LIZENZ
END:VEVENT
BEGIN:VEVENT
DTSTART;VALUE=DATE:20261204
DTEND;VALUE=DATE:20261205
DTSTAMP:20260425T003203
CREATED:20260119T144206Z
LAST-MODIFIED:20260119T144206Z
UID:10000311-1796342400-1796428799@academy.clever-fit.com
SUMMARY:LIZENZIERTE/R FITNESSTRAINER/-IN B-LIZENZ - Volketswil
DESCRIPTION:
URL:https://academy.clever-fit.com/event/lizenzierte-r-fitnesstrainer-in-b-lizenz-volketswil-4/
LOCATION:clever fit Volketswil\, Industriestraße 15\, Volketswil\, 8604
CATEGORIES:LIZENZIERTE/R FITNESSTRAINER/-IN B-LIZENZ
END:VEVENT
END:VCALENDAR