
BEGIN:VCALENDAR
VERSION:2.0
PRODID:-//clever fit Academy - ECPv6.15.14//NONSGML v1.0//EN
CALSCALE:GREGORIAN
METHOD:PUBLISH
X-WR-CALNAME:clever fit Academy
X-ORIGINAL-URL:https://academy.clever-fit.com
X-WR-CALDESC:Veranstaltungen für clever fit Academy
REFRESH-INTERVAL;VALUE=DURATION:PT1H
X-Robots-Tag:noindex
X-PUBLISHED-TTL:PT1H
BEGIN:VTIMEZONE
TZID:Europe/Berlin
BEGIN:DAYLIGHT
TZOFFSETFROM:+0100
TZOFFSETTO:+0200
TZNAME:CEST
DTSTART:20240331T010000
END:DAYLIGHT
BEGIN:STANDARD
TZOFFSETFROM:+0200
TZOFFSETTO:+0100
TZNAME:CET
DTSTART:20241027T010000
END:STANDARD
BEGIN:DAYLIGHT
TZOFFSETFROM:+0100
TZOFFSETTO:+0200
TZNAME:CEST
DTSTART:20250330T010000
END:DAYLIGHT
BEGIN:STANDARD
TZOFFSETFROM:+0200
TZOFFSETTO:+0100
TZNAME:CET
DTSTART:20251026T010000
END:STANDARD
BEGIN:DAYLIGHT
TZOFFSETFROM:+0100
TZOFFSETTO:+0200
TZNAME:CEST
DTSTART:20260329T010000
END:DAYLIGHT
BEGIN:STANDARD
TZOFFSETFROM:+0200
TZOFFSETTO:+0100
TZNAME:CET
DTSTART:20261025T010000
END:STANDARD
END:VTIMEZONE
BEGIN:VEVENT
DTSTART;VALUE=DATE:20251115
DTEND;VALUE=DATE:20251116
DTSTAMP:20260425T035817
CREATED:20241028T093515Z
LAST-MODIFIED:20241028T093515Z
UID:10000194-1763164800-1763251199@academy.clever-fit.com
SUMMARY:LIZENZIERTER NUTRITION COACH
DESCRIPTION:
URL:https://academy.clever-fit.com/event/lizenzierter-nutrition-coach-8/
LOCATION:Online\, Germany
CATEGORIES:LIZENZIERTER NUTRITION COACH
END:VEVENT
BEGIN:VEVENT
DTSTART;VALUE=DATE:20251004
DTEND;VALUE=DATE:20251005
DTSTAMP:20260425T035817
CREATED:20241028T092839Z
LAST-MODIFIED:20241028T092839Z
UID:10000193-1759536000-1759622399@academy.clever-fit.com
SUMMARY:LIZENZIERTER NUTRITION COACH
DESCRIPTION:
URL:https://academy.clever-fit.com/event/lizenzierter-nutrition-coach-7/
LOCATION:Online\, Germany
CATEGORIES:LIZENZIERTER NUTRITION COACH
END:VEVENT
BEGIN:VEVENT
DTSTART;VALUE=DATE:20250823
DTEND;VALUE=DATE:20250824
DTSTAMP:20260425T035817
CREATED:20241028T092420Z
LAST-MODIFIED:20241028T092420Z
UID:10000192-1755907200-1755993599@academy.clever-fit.com
SUMMARY:LIZENZIERTER NUTRITION COACH
DESCRIPTION:
URL:https://academy.clever-fit.com/event/lizenzierter-nutrition-coach-6/
LOCATION:Online\, Germany
CATEGORIES:LIZENZIERTER NUTRITION COACH
END:VEVENT
BEGIN:VEVENT
DTSTART;VALUE=DATE:20250712
DTEND;VALUE=DATE:20250713
DTSTAMP:20260425T035817
CREATED:20241028T092205Z
LAST-MODIFIED:20241028T092205Z
UID:10000191-1752278400-1752364799@academy.clever-fit.com
SUMMARY:LIZENZIERTER NUTRITION COACH
DESCRIPTION:
URL:https://academy.clever-fit.com/event/lizenzierter-nutrition-coach-5/
LOCATION:Online\, Germany
CATEGORIES:LIZENZIERTER NUTRITION COACH
END:VEVENT
BEGIN:VEVENT
DTSTART;VALUE=DATE:20250510
DTEND;VALUE=DATE:20250511
DTSTAMP:20260425T035817
CREATED:20241028T091752Z
LAST-MODIFIED:20241028T091752Z
UID:10000190-1746835200-1746921599@academy.clever-fit.com
SUMMARY:LIZENZIERTER NUTRITION COACH
DESCRIPTION:
URL:https://academy.clever-fit.com/event/lizenzierter-nutrition-coach-4/
LOCATION:Online\, Germany
CATEGORIES:LIZENZIERTER NUTRITION COACH
END:VEVENT
BEGIN:VEVENT
DTSTART;VALUE=DATE:20250405
DTEND;VALUE=DATE:20250406
DTSTAMP:20260425T035817
CREATED:20241028T091419Z
LAST-MODIFIED:20241028T091419Z
UID:10000189-1743811200-1743897599@academy.clever-fit.com
SUMMARY:LIZENZIERTER NUTRITION COACH
DESCRIPTION:
URL:https://academy.clever-fit.com/event/lizenzierter-nutrition-coach-3/
LOCATION:Online\, Germany
CATEGORIES:LIZENZIERTER NUTRITION COACH
END:VEVENT
BEGIN:VEVENT
DTSTART;VALUE=DATE:20250125
DTEND;VALUE=DATE:20250126
DTSTAMP:20260425T035817
CREATED:20241028T090817Z
LAST-MODIFIED:20241028T090917Z
UID:10000187-1737763200-1737849599@academy.clever-fit.com
SUMMARY:LIZENZIERTER NUTRITION COACH
DESCRIPTION:
URL:https://academy.clever-fit.com/event/lizenzierter-nutrition-coach/
LOCATION:Online\, Germany
CATEGORIES:LIZENZIERTER NUTRITION COACH
END:VEVENT
END:VCALENDAR